BEGIN:VCALENDAR
VERSION:2.0
PRODID:-//hacksw/handcal//NONSGML v1.0//EN
BEGIN:VEVENT
SUMMARY:Finales par Classements Regionale
UID:91d7d6dc-3084-4841-a4cc-fe8ed3fb9d87
DTSTART:20260425T083000Z
DTEND:20260425T150000Z
LOCATION:Localisation 39 Rue Arquis (gymnase DESCARTES) 76600 LE HAVRE
CATEGORIES:Sportif
STATUS:
URL;VALUE=URI:https://www.gattping.com/evenements/2026/04/25/finales-par-classements-regionale-2437887
END:VEVENT
END:VCALENDAR
