BEGIN:VCALENDAR
VERSION:2.0
PRODID:-//hacksw/handcal//NONSGML v1.0//EN
BEGIN:VEVENT
SUMMARY:Finale Crit Juniors/Seniors
UID:2ce44120-1da7-4193-9c66-4cfa803b8a08
DTSTART:20260419T060000Z
DTEND:20260419T103000Z
LOCATION:Localisation Gymnase du Canada 27000 EVREUX
CATEGORIES:Sportif
STATUS:
URL;VALUE=URI:https://www.gattping.com/evenements/2026/04/19/finale-crit-juniorsseniors-2414961
END:VEVENT
END:VCALENDAR
