BEGIN:VCALENDAR
VERSION:2.0
PRODID:-//hacksw/handcal//NONSGML v1.0//EN
BEGIN:VEVENT
SUMMARY:Finale Crit Poussins/Benjamins
UID:c9af057f-7d3a-42e2-bf33-1ed926d34e2c
DTSTART:20260418T064500Z
DTEND:20260418T103000Z
LOCATION:Localisation Gymnase du Canada 27000 EVREUX
CATEGORIES:Sportif
STATUS:
URL;VALUE=URI:https://www.gattping.com/evenements/2026/04/18/finale-crit-poussinsbenjamins-2414960
END:VEVENT
END:VCALENDAR
